BEGIN:VCALENDAR
VERSION:2.0
PRODID:Events Booking
BEGIN:VEVENT
UID:69e82bb72829f
SUMMARY:Utflykt till Habo: Öringvandring och vandring på Hökensås
DESCRIPTION:Söndagen den 29 oktober gör SFK:s Göteborgssektion ett arran
 gemang tillsammans med Svenska Naturskyddsföreningen i Habo. Ett besök i
  Habo med vandring vid en av Vätterbäckarna där vi kan se Öring på my
 cket nära håll\, och sedan en vandring på Hökensås. Läs alla detalje
 r nedan.
 
 Foto Arne Svensson
 Tåg avgår från Göteborgs C 07.59 me
 d ett byte i Falköping\, framme i Habo 09.48\, (observera att det finns v
 issa banarbeten planerade\, så det går inte att boka/köpa biljett ännu
 \, tågnummer är ej heller tillgängliga). Köp biljett i Vägtrafiks app
  ToGo\, absolut billigast.På stationen i Habo blir ni upphämtade med bil
 \, för transport till en Öringvandring i en av Vätterbäckarna\, som ha
 r en oerhörd vikt för den vilda öringens överlevnad (tänk fjällsjö
 öring men större och fler)
 Vätterbäckarna är små\, oftast inte bre
 dare än 2 meter\, som ni ser på fotot\, kan man röra vid öringen (men 
 skall undvika detta)\, en fantastisk upplevelse och känsla att uppleva de
 nna kamp uppför strömmande vatten för fortplantning.
 Efteråt fortsä
 tter vi med biltransport upp på Hökensås\, ett av de högsta områdena 
 i Västergötland +300 meter\, där det finns bl.a. 53 stycken små sjöar
  utan bebyggelse som arrenderas av Hushållningssällskapet för fiskodlin
 g och sportfiske. Hökensås&nbsp\;är en urbergsplatå som sträcker sig 
 10 mil utmed Vätterns&nbsp\;västra strand från Jönköpingstrakten i s
 öder till sjön&nbsp\;Viken i norr. Hökensås anses vara en horst (Googl
 a).
 Speciellt på östra sidan av urbergsryggen lagrades enorma mängder
  grus och sand under istiden och tillhör de mäktigaste isälvsavlagringa
 rna i Sverige. Hökensås består av rullstensåsar\, runda kullar\, plana
  grus- och sandfält och djupa gropar. Groparna bildades när isberg\, som
  strandat i sandfälten när inlandsisen drog sig undan\, smälte bort.
 
 Vi kommer att vandra i en mycket mager tallmo\, som närmast har sin motsv
 arighet i Bonitet (skogsmarksbördighet) i fjällnära skogar i Norrbotten
 \, och få en botanisk och historisk guidning
 Förhoppningsvis hinner vi
  besöka postiljonmördaren Falks grav i ovigd jord\, där det spökar…V
 andringslängd 7 - 8 km
 Tåg åter till Göteborg går från Habo Statio
 n en gång per timme:
 14:14\, 15:12\,16:16\, 17:16\, 18\;17\, 19\;17\, 2
 0\;16 och 22\;14
 Ta med vandringskängor/stövlar\, matsäck\, kikare/ka
 mera och glatt humörAnmälan till Ulf H. Bertills 070-280 66 55 eller e-p
 ost ulf.bertills @ telia . com (ta bort mellanrummen i adressen) senast on
 sdag 25 oktober\,
DTSTART:20231029T090000Z
DTSTAMP:20230908T081433Z
ORGANIZER;CN=Svenska Fjällklubben:MAILTO:joomla@fjallklubben.se
END:VEVENT
END:VCALENDAR