BEGIN:VCALENDAR
VERSION:2.0
PRODID:Events Booking
BEGIN:VEVENT
UID:69e82432b8485
SUMMARY:Utrustningsträff Slottsskogen
DESCRIPTION:Vi genomför en extra träff inför sommarens fjällvandringar.
  Alla är välkomna\, både medlemmar och alla andra\, vana vandrare och n
 ybörjare. Ta gärna med någon utrustningsdetalj (för sommarturer i fjä
 llen) och alla frågor du har (inga frågor är för dumma!)\, så ses vi 
 i avslappnade och enkla former och tittar på varandras grejor och diskute
 rar vad som behövs och inte på vandringen.
 Vi möts vid labyrinten i S
 lottsskogen (mellan Plikta och Naturhistoriska museet) och söker upp läm
 plig ledig gräsmatta. Tisdag 4 juni. Drop-in från kl 17.30 - men kommer 
 du senare får du kanske leta en bit bort efter oss. Eller ring Fredrik: 0
 768-19 67 34. Skicka gärna ett sms några dagar innan och berätta att du
  kommer.
DTSTART:20240604T153000Z
DTEND:20240604T173000Z
DTSTAMP:20240508T094035Z
ORGANIZER;CN=Svenska Fjällklubben:MAILTO:joomla@fjallklubben.se
END:VEVENT
END:VCALENDAR