BEGIN:VCALENDAR
VERSION:2.0
PRODID:Events Booking
BEGIN:VEVENT
UID:69e8244d86b01
SUMMARY:Vandring i bokskogar
DESCRIPTION:Vandring i Åkulla Bokskogar i den bästa av årstider!
 Vi ha
 r tidigare annonserat en längre tur\, men istället blir det en halvlång
  tur\, i två delar. Vi går Skogsbostigen och Bexellstigen\, 5\,5 km resp
  6 km. Den första är dock rejält kuperad\, ca 250 m stigning över fem 
 små berg\, så det kommer att kännas lite i benen. Det är förstås fri
 villigt om man vill gå även den andra slingan\, men den är riktigt fin 
 med platsen för \"Bexells talande stenar\" som höjdpunkt\, en plats att 
 stanna upp och meditera på eller ströva runt långsamt. Och för den som
  vill gå ännu längre finns många fler leder i området.
 Vi samlas kl
  8.30 vid parkeringen på Åkulla Resort\, för att åka vidare till lämp
 lig parkeringsplats. Om någon behöver eller kan erbjuda samåkning så m
 eddela detta i anmälan.
 Anmäl till Fredrik Hagstedt på e-post hagsted
 t @ bahnhof . se (ta bort mellanrummen i adressen) eller sms 0768196734 se
 nast torsdag 9 maj.
 Bilderna nedan är tagna längs den andra slingan i 
 mitten av april. Vi hoppas att grönskan är på god väg den 12 maj!
 

  &nbsp\; 
DTSTART:20240512T063000Z
DTEND:20240512T120000Z
DTSTAMP:20240126T084645Z
ORGANIZER;CN=Svenska Fjällklubben:MAILTO:joomla@fjallklubben.se
END:VEVENT
END:VCALENDAR