BEGIN:VCALENDAR
VERSION:2.0
PRODID:Events Booking
BEGIN:VEVENT
UID:69e87ebb4898e
SUMMARY:Vandring i norra Vättlefjäll
DESCRIPTION:När: Söndagen 26/4 kl 10.00 – ca kl 15.30Samlingsplats: Rö
 rdalens parkeringLängd: Ca 11-12 kmBeskrivning: Mestadels mindre skogssti
 gar i teknisk och kuperad terrängMedtag: Matsäck för en lite större fi
 kapaus och ev en lite mindre.
 Vi tar oss utmed tre av de lite större oc
 h vackert belägna sjöarna Trollsjön\, Björsjön ochLysevattnet på nor
 ra Vättlefjäll. Turen går också via några av de gårdar som ligger i 
 området\, bl a Björsöås vildmark. Vi kommer också att passera en lite
  udda föreningslokal som ”fjällklubbare” kan finna lite extra spänn
 ande. Stigarna går ibland jämns vattenlinjen och ibland på bergen ovanf
 ör med fin utsikt över sjöarna. Några partier i ren skogsmiljö kommer
  det också att bli. Och inte minst kommer vi att få åtskilliga tecken p
 å att detta är ett område där Vildsvinen står för en hel del aktivit
 et.
 Anmälan senast 25/4 till:thomas.schon32@gmail.com
DTSTART:20260426T080000Z
DTEND:20260426T133000Z
DTSTAMP:20260227T093144Z
ORGANIZER;CN=Svenska Fjällklubben:MAILTO:joomla@fjallklubben.se
END:VEVENT
END:VCALENDAR