BEGIN:VCALENDAR
VERSION:2.0
PRODID:Events Booking
BEGIN:VEVENT
UID:69e839bca486c
SUMMARY:Vandring i Risveden
DESCRIPTION:Risveden kan ses som fortsättningen på Vättlefjäll i nordö
 stlig riktning från Göteborg sett. I södra Risveden finns inte mindre 
 än 11 st mindre naturreservat med lite olika karaktär. Huvudsakligen kom
 mer vandringen att gå igenom 3 av dessa.&nbsp\; Risveden vildmark\, Treh
 örningen och Rammdalen rymmer mycket vildmarkskänsla med storslagen natu
 r och kuperad terräng. Området rymmer flera sjöar och den djupt skurna 
 Rammsjön är en av dem med lite extra spännande omgivning.&nbsp\;Vandrin
 gen kommer att innehålla ett&nbsp\;kortare&nbsp\;inslag av ansträngande 
 vandring med \"fjällkaraktär\". Ansträngningen kommer att belönas med 
 en&nbsp\;fantastisk utsikt.
 Vandringens längd: ca 16-17 km (bitvis kupe
 rad terräng)
 Tidsåtgång: ca 7 timmar
 Tid och plats: Lördagen 8/5 k
 l 10.00\, St Ljusevatten's östra parkering (Vid behov ordnas samåkning).
  En lämplig färdväg är via Alingsås och sedan vidare på väg 180 och
  därefter 190. Eventuell vidare info skickas till de anmälda via mail. L
 änk till ungefärlig samlingsplats
 Medtag: Lunch eller kraftigare fika
 
 Obligatorisk föranmälan via mail till:&nbsp\;thomas.schon32@gmail.com
 
 Risveden_1.pdf
 Risveden_2.pdf
 Risveden_forslag_fardvag.pdf
DTSTART:20210508T080000Z
DTEND:20210508T150000Z
DTSTAMP:20260422T050012Z
ORGANIZER;CN=Svenska Fjällklubben:MAILTO:joomla@fjallklubben.se
END:VEVENT
END:VCALENDAR