BEGIN:VCALENDAR
VERSION:2.0
PRODID:Events Booking
BEGIN:VEVENT
UID:69e839c78eed0
SUMMARY:Vandring på Rörö - En vindpinad havsutpost med storslagen natur
DESCRIPTION:En vandring där vi kan få samsas med får och hästar på rul
 lstensfält\, klippor och stigar som bitvis kantas av lågväxt krypen. Ha
 vsutsikten är vidsträckt mot öppen horisont och den glesa skärgården 
 norrut mot Marstrand.
 Dagens tema som vi reflekterar över och talar kri
 ng är hur olika landskap påverkar oss känslomässigt och på andra sät
 t. Vad är det som attraherar i öppna landskap som i fjällen och på kar
 ga skärgårdsöar? Och hur kan sinnesstämningen påverkas av de små det
 aljerna\, som blommor\, buskar\, gölar och annat som passeras? Några gå
 nger längs vandringen stannar vi upp och gör en enkel meditation.
 Lite
  fjällkunskap kommer också att tas upp\, vi kommer bland annat prata om 
 hur en lämplig tältplats ser ut. Om intresse finns kommer vi att ha en p
 raktisk övning i tältresning. Detta blir extra intressant om det är en 
 blåsig dag.
 Samlingsplats: Res med bil eller buss via färjan från Lil
 la Varholmen till Hönö och vidare över Öckerö och Hälsö. Vi träffa
 s vid Burö färjeläge där vi tar färjan till Rörö kl 10.38\, framme 
 vid Rörö kl 10.55. Obs att det vid fint väder kan vara mycket trafik me
 d den första färjan till Hönö\, vi rekommenderar att ni tar färjan kl
  9.40 från Lilla Varholmen.
 Det finns anslutning med buss från Götebo
 rg. Tag Röd express\, tex från Stenpiren kl 8.59\, byt till färjan vid 
 Lilla Varholmen\, byt till buss vid Hönö färjeläge och åk till Burö 
 färjeläge. Vid behov ordnas samåkning. Vandringen beräknas ta cirka fe
 m timmar. Det går en färja från Rörö kl 15.55 (och om någon vill sta
 nna längre går de ungefär en gång i timmen). Medtag eget fika. Möjlig
 het till bad finns. Tänk på att vädret kan slå om snabbt ute i skärg
 ården\, precis som i fjällen.
 Obligatorisk föranmälan\,&nbsp\;senast
  27 maj\, till Fredrik Hagstedt\, via mejl&nbsp\;hagstedt@bahnhof.se\, ell
 er via sms 0768-196734. Meddela om du har behov av samåkning.
 
DTSTART:20210529T083000Z
DTEND:20210529T143000Z
DTSTAMP:20260422T050023Z
ORGANIZER;CN=Svenska Fjällklubben:MAILTO:joomla@fjallklubben.se
END:VEVENT
END:VCALENDAR