BEGIN:VCALENDAR
VERSION:2.0
PRODID:Events Booking
BEGIN:VEVENT
UID:69e839afd35c3
SUMMARY:Vandring nära havet
DESCRIPTION:
 Vi vandrar på Överön norr om Nordre Älvs mynning med sit
 t estuarium och intressanta djurliv och växtlighet. Vandringen blir i tv
 å delar\, först runt en ganska lättgången slinga på själva Överön\
 , och sedan\, för dem som vill\, en lite mer äventyrlig del uppåt berge
 n norr om älven. Det går alltså bra att enbart följa med på första d
 elen. Går du med bägge delarna\, räkna med en tur på uppåt fem timmar
 . Tag med fika för en eller två pauser.
 Samlingsplats: parkeringen vid
  Överön. Se här:&nbsp\;Överöns besöksparkering på Google maps Följ
  skyltar mot Överön från vägen mellan Kornhalls färja och Kärna. Sam
 ling kl 10.00. Finns behov av samåkning\, meddela detta vid anmälan.
 A
 nmälan görs senast torsdag 20 april till Fredrik Hagstedt\, sms 0768-19 
 67 34 eller epost hagstedt @ bahnhof . se (tag bort mellanrummen i adresse
 n).
DTSTART:20230423T080000Z
DTEND:20230423T130000Z
DTSTAMP:20230301T202431Z
ORGANIZER;CN=Svenska Fjällklubben:MAILTO:joomla@fjallklubben.se
END:VEVENT
END:VCALENDAR