BEGIN:VCALENDAR
VERSION:2.0
PRODID:Events Booking
BEGIN:VEVENT
UID:69e8521f45aec
SUMMARY:Vandring på Kullaberg
DESCRIPTION:Denna aktivitet genomförs av Sydsektionen och välkomnar medle
 mmar från båda sektionerna.
 Vi gör åter en vandring på vilda Kullab
 erg. Den här gången bjuder vi in Göteborgssektionen i syfte att lära k
 änna varandra och få till stånd ett ökat utbyte mellan sektionerna. Va
 ndringen leds av Jenny Lindström från Sydsektionen och Mikael Edland Fab
 er från Göteborgssektionen. Mikael är yrkesverksam som bergrundsgeolog 
 och kommer berätta lite om området ur ett geologisktperspektiv. Vi komme
 r också prata lite om områdets natur\, kulturhistoria och nutida situati
 on.
 Var: Vi samlas på den stora parkeringsplatsen vid naturum och Kulla
 bergs fyr vid slutet avKullabergsvägen.När: Vi startar kl. 10.30 och är
  åter vid parkeringen ca 15.30.Hur: 8 km vandring i bitvis kuperad terrä
 ng. Medtag lunch och fika.Anmälan och frågor: Jenny Lindström\, levaliv
 et@bahnhof.se eller 070 – 245 81 52.
DTSTART:20201010T083000Z
DTEND:20201010T133000Z
DTSTAMP:20260422T064415Z
ORGANIZER;CN=Svenska Fjällklubben:MAILTO:joomla@fjallklubben.se
END:VEVENT
END:VCALENDAR