BEGIN:VCALENDAR
VERSION:2.0
PRODID:Events Booking
BEGIN:VEVENT
UID:69e828d4ed553
SUMMARY:Vandring på Onsalahalvön
DESCRIPTION:Vandring på Onsalahalvön söndag 3 september
 Fredrik Klingb
 erg har gett ut boken ”Vandringar på Onsala – ändmoräner\, drumline
 r och stengärdsgårdar”.
 Han kommer att presentera innehållet i boke
 n och samtidigt guida oss runt en 3–4 km vandring då vi får titta på 
 olika geologiska sevärdheter.
 Vandringen tar ca 2 timmar. Efter det kan
  den som vill fortsätta och göra en längre vandring på Onsala-halvön.
 
 Samling 10:00 vid Onsala kyrka. Ta med egen fika.
 I samband med vandr
 ingen kan man köpa Fredrik Klingbergs bok á 250 kr.
 Anmäl till Anna S
 jödin via sms 0730 867967 senast 1 september.
 &nbsp\;
DTSTART:20230903T080000Z
DTSTAMP:20230819T095655Z
ORGANIZER;CN=Svenska Fjällklubben:MAILTO:joomla@fjallklubben.se
END:VEVENT
END:VCALENDAR