BEGIN:VCALENDAR
VERSION:2.0
PRODID:Events Booking
BEGIN:VEVENT
UID:69e839bca3928
SUMMARY:Vandring vid inlandsisens spår
DESCRIPTION:Skandinavien är format av is. Inte minst fjällen som var inla
 ndsisens sista utpost för ca 10000 år sedan. I söder har vi också mån
 ga spår och formationer fortfarande. Vissa så stora att vi knappt tänke
 r på dem. Fjärås bräcka är en av dem. Ett ställe där dimensionerna 
 på isen blir förståeligt.Vi samlas vid parkeringen till Naturumet och t
 ar sedan en lite promenad där vi ser på ändmoränen och pratar om urspr
 unget och hur den formats. Vi passar också på att ta upp och prata om en
  del andra formationer hur de bildats.Människan har påverkats på många
  sätt och vi ser en del spår som sträcker sig från bronsålder till nu
 tid.När vi är klara så tar vi medhavd lunch och ett besök på Naturume
 t rekommenderas.Efter det finns möjlighet till att åka hem eller att for
 tsätta på en liten vandring utefter Hallandsleden. Sträckan är rätt s
 å lättvandrad och ca 4 km lång och beräknas ta 2-3 timmar med stopp f
 ör att prata geologi. Utflykten leds av geologerna Mikael\, John och Jako
 b.Obligatorisk anmälan till mikaeledland @ me.com och eventuell ytterliga
 re information kommer då.Samlingsplats: Fjärås Bräcka Parkering till N
 aturum. 24/4 2022 klockan 10:00
 
DTSTART:20220424T080000Z
DTEND:20220424T110000Z
DTSTAMP:20220211T192449Z
ORGANIZER;CN=Svenska Fjällklubben:MAILTO:joomla@fjallklubben.se
END:VEVENT
END:VCALENDAR