BEGIN:VCALENDAR
VERSION:2.0
PRODID:Events Booking
BEGIN:VEVENT
UID:69e83aa24ef5a
SUMMARY:Vandringsweekend Grövelsjön
DESCRIPTION:Vandringsweekend Grövelsjön 29/9 - 2/10
 SFK Göteborg bjude
 r in intresserade medlemmar till en gemensam vandringshelg i Grövelsjön 
 i månadsskiftet september – oktober.
 Uppresa till Grövelsjön sker u
 nder torsdag 29 september\, så långt det går genom samåkning. Vi start
 ar vandringen från fjällstationen fredag morgon och via två tältnätte
 r ute på fjället är vi åter i Grövelsjön söndag fm 2 oktober och r
 äknar med hemfärd vid lunchtid.
 Turen är beräknad till ca 3\,5 – 4
  mil och förläggs till största delen inom Långfjällets naturreservat 
 med tänkbar delsträcka in i Norge beroende på väder. Svårighetsgraden
  kan sägas vara lätt – medel med en del höjdmetrar i mestadels måttl
 ig lutning. Årstiden kräver förstås utrustning och klädsel för tänk
 bart hårt och kyligt höstväder i kalfjällsmiljö\, då stora delar av 
 vandringen sker på runt 900 – 1000 meters höjd.
 Eventuell övernattn
 ing på fjällstationen torsdag - fredag bokas av deltagaren själv.
 Vi 
 begränsar antalet deltagare till 15. I mån plats är medlemmar från and
 ra sektioner välkomna. Anmälan är öppen till 21 augusti\, medlemmar i 
 Göteborgssektionen har förtur vid anmälan senast 14 augusti.
 Förfrå
 gningar och anmälan sker till:
 thomas . schon32 @ gmail . com
 
DTSTART:20220929T050000Z
DTEND:20221002T180000Z
DTSTAMP:20220624T054902Z
ORGANIZER;CN=Svenska Fjällklubben:MAILTO:joomla@fjallklubben.se
END:VEVENT
END:VCALENDAR