BEGIN:VCALENDAR
VERSION:2.0
PRODID:Events Booking
BEGIN:VEVENT
UID:69e8528129d65
SUMMARY:Vårhelg i östra Småland
DESCRIPTION:Vi åker till Virserum för att titta på intressanta platser i
  omgivningarna. Några exempel är Smålands enda riktiga kanjon med More 
 kastell\, fågelsjön Ryningen och Virserums konsthall. Gratis boende i s
 äng eller på liggunderlag i Sven-Eriks hus!
 Info och anmälan helst vi
 a e-post till Jesper Holst\, jesper.e.holst@gmail.com eller telefon 070-21
 4 22 82 senast den 25 april.
 Meddela om du har bil och i så fall hur m
 ånga du har plats för. Mer information kommer att skickas till deltagarn
 a någon vecka innan resan.
DTSTART:20180505T060000Z
DTEND:20180505T220000Z
DTSTAMP:20260422T064553Z
ORGANIZER;CN=Svenska Fjällklubben:MAILTO:joomla@fjallklubben.se
END:VEVENT
END:VCALENDAR