BEGIN:VCALENDAR
VERSION:2.0
PRODID:Events Booking
BEGIN:VEVENT
UID:69e8511f8e1aa
SUMMARY:Vildmarksvandring Svartedalen
DESCRIPTION:I en av Bohusläns mest spännande och varierade vildmarksterr
 änger tar vi oss fram i Bauerskogar\, längs fina skogsjöar\, raviner oc
 h grottor. En bitvis hårt kuperad terräng som gjort sig känd bland orie
 nterare som krävande\, men också som utsökt svampområde framåt höste
 n. Här liksom som på Vättlefjäll går Bohusleden genom området och to
 rde vara en sträcka som gör ett rejält intryck på vandraren. Cirka 8-9
  km vandring.
 Vi träffas på parkeringen på parkeringen&nbsp\;som ligg
 er vid slutet av vägen som går ner mot Timmervatten och Översjön (OBS!
  inte första parkeringen som ligger före Timmervatten). Tyvärr är det 
 inte lätt att ta sig hit med kommunalt färdmedel\, men förhoppningsvis 
 går skjuts att ordna med de som har bil. Medtag rejäl matsäck samt gär
 na ett tips eller frågeställning (inför kommande fjällvandringar och l
 iknande) att dryfta under fikapausen. Tid ca 4-5 tim.&nbsp\;
 OBS! Anmäl
 an senast en vecka i förväg till Thomas Schön: lethomas.schon@comhem.se
 
 COVID-19: information: Det är viktigt att vi följer FHM rekommendatio
 ner\, det innebär att man måste vara frisk\, inte tillhöra en riskgrupp
  osv för att få deltaga. Eftersom att det kan komma att ske ändringar s
 nabbt är det viktigt ni anmäler er så att vi kan nå er om vi måste st
 älla in vandringen med kort varsel.&nbsp\;
 
DTSTART:20200510T080000Z
DTEND:20200510T130000Z
DTSTAMP:20260422T063959Z
ORGANIZER;CN=Svenska Fjällklubben:MAILTO:joomla@fjallklubben.se
END:VEVENT
END:VCALENDAR