BEGIN:VCALENDAR
VERSION:2.0
PRODID:Events Booking
BEGIN:VEVENT
UID:69e83d06e7901
SUMMARY:Vintervandring med övernattning i Tresticklans nationalpark
DESCRIPTION:Vintervandring med övernattning i Tresticklans nationalpark.

  Vi slår upp tälten i Budalsvika\, på gränsen mellan Sverige och Norge
 \, där vi också har tillgång till en mysig stuga för de som hellre sov
 er under tak. Stugan ligger 4\,5 km från parkeringen - en vacker\, lätt 
 kuperad sträcka. De som vill har möjlighet att därifrån göra ytterlig
 are vandring utan packning.
 &nbsp\;
 Tid: 18-19 mars. Samling kl 12:00 
 den 18:e.
 Hitta dit: Tresticklans nationalpark ligger ca 2 mil norr om E
 d. Skyltning till nationalparkens huvudentré \"Råbocken\" finns från v
 äg 2183 mellan Ed och Nössemark.
 Anmälan: senast den 12 mars via mail
  till petren.anders @ gmail . com (ta bort mellanrummen i adressen).
 Anm
 älningsavgift: 250 kr/person (för medlem i STF 150 kr) via Swish till 07
 06-658256 (täcker kostnad för bokning av stuga).
 https://www.vastsveri
 ge.com/dalsed/produkter/budalsviken/
 https://www.sverigesnationalparker.
 se/park/tresticklans-nationalpark/
DTSTART:20230318T110000Z
DTEND:20230319T160000Z
DTSTAMP:20230122T173735Z
ORGANIZER;CN=Svenska Fjällklubben:MAILTO:joomla@fjallklubben.se
END:VEVENT
END:VCALENDAR