BEGIN:VCALENDAR
VERSION:2.0
PRODID:Events Booking
BEGIN:VEVENT
UID:69e83990e7f82
SUMMARY:Vintervandring på Hönö
DESCRIPTION:Följ med på en av mina favoritvandringar! Ofta finns storslag
 na naturupplevelser närmare än man tror. Hönö må vara en rätt så be
 byggd ö\, men likväl har jag aldrig under mina otaliga vandringar på de
 ss utsida lämnats oberörd\, oavsett årstid\, väderlek\, tid på dygnet
 \, och jag har upplevt de flesta.
 Den här vandringen tar oss runt ön. 
 Beroende på väder och hur halt det är väljer vi svårare eller lättar
 e vägar\, men närkontakt med klippor\, havet och horisonten kan utlovas\
 , liksom en varierad natur och högst omväxlande underlag.
 Vandringen t
 ar 4-5 timmar. Ta med matsäck för två raster. Kläder efter väder\, t
 änk på att det kan blåsa mycket vid havet\, och ta skor eller kängor m
 ed bra grepp på halt underlag.
 Obligatorisk anmälan: Fredrik Hagstedt\
 , 0768196734 samt hagstedt @ bahnhof.se. Anmäl senast fredag 11 mars.
 S
 amlingsplats: Hönö färjeläge kl 10.00. Tag färja från Lilla Varholme
 n kl 9.40. Det finns parkering vid Lilla Varholmen. Reser du kollektivt s
 å ta Röd Express från tex Stenpiren kl 9.06.
 &nbsp\;
 
DTSTART:20220312T090000Z
DTEND:20220312T140000Z
DTSTAMP:20220108T152648Z
ORGANIZER;CN=Svenska Fjällklubben:MAILTO:joomla@fjallklubben.se
END:VEVENT
END:VCALENDAR