BEGIN:VCALENDAR
VERSION:2.0
PRODID:Events Booking
BEGIN:VEVENT
UID:69e8246cc0748
SUMMARY:Vita Bandet
DESCRIPTION:Torsdag 25 januari kommer Nils Eile och Sabina Claesson och ber
 ättar om sin skidtur från Grövelsjön till Treriksröset vinter 2023.

  Nils och Sabina är två göteborgare och fjällfarare som vandrade Grön
 a Bandet sommaren 2020.
 På vandringen väcktes deras nyfikenhet kring h
 ur det skulle vara att ta sig samma sträcka på skidor och genomföra Vit
 a Bandet.
 Nils och Sabina kommer att visa bilder från sitt Vita Bandet 
 och berätta om hur de gjorde för att genomföra och vad som är värt at
 t tänka på.
 De vill ge inspiration till Vita Bandet eller andra skidtu
 rer i fjällen.
 Plats: Team Hälsas lokaler\, Göteborgsvägen 97 (håll
 plats Krokslätts fabriker)
 Tid: torsdag 25 januari\, 18:30 – ca 20:00
 
 Anmälan via sms till Anna Sjödin 0730 – 867967
 Ps Titta gärna in
  på hemsidan Fjällfararnas Vita&amp\;Gröna band/turer/genomförda-vita-
 band och leta upp Nils och Sabinas blogg.
DTSTART:20240125T173000Z
DTEND:20240125T190000Z
DTSTAMP:20231214T061918Z
ORGANIZER;CN=Svenska Fjällklubben:MAILTO:joomla@fjallklubben.se
END:VEVENT
END:VCALENDAR