BEGIN:VCALENDAR
VERSION:2.0
PRODID:Events Booking
BEGIN:VEVENT
UID:69e813230dfd1
SUMMARY:Adventsträff med foton och fjällminnen
DESCRIPTION:Som avslutning på året ses vi för en träff där vi tar del 
 av varandras fjällminnen från året som gått (även äldre minnen går 
 bra!). Vi får inspiration av varandra till kommande turer\, kanske får t
 a del av roliga anekdoter och lär oss av andras erfarenheter på fjället
 .
DTSTART:20251126T173000Z
DTSTAMP:20250827T154300Z
ORGANIZER;CN=Svenska Fjällklubben:MAILTO:joomla@fjallklubben.se
END:VEVENT
END:VCALENDAR