BEGIN:VCALENDAR
VERSION:2.0
PRODID:Events Booking
BEGIN:VEVENT
UID:69e812660075e
SUMMARY:Decembertälttur
DESCRIPTION:En tur i december är alltid speciell. Mörkret har kommit på 
 riktigt och snö finns åtminstone delvis. Man gläds åt att ännu en gå
 ng se snön täcka in omgivningarna. Tältkvällarna blir extra långa och
  ger tillfälle till att prata om sommaren som har varit och vintern som s
 ka komma. Turen anpassas till väder och snöläge och kan bli till fots\,
  på snöskor eller på skidor (snöskor finns att hyra).
 Mer informatio
 n och datum för turen kommer under hösten. Frågor och anmälan Henrik A
 ndersson\, henrik.fjell@bahnhof.se eller 073-818 22 84.
DTSTART:20231130T230000Z
DTEND:20231230T230000Z
DTSTAMP:20230718T172118Z
ORGANIZER;CN=Svenska Fjällklubben:MAILTO:joomla@fjallklubben.se
END:VEVENT
END:VCALENDAR