BEGIN:VCALENDAR
VERSION:2.0
PRODID:Events Booking
BEGIN:VEVENT
UID:69e8022fb8d16
SUMMARY:Föredrag: Hur går det för fåglarna i fjällen?
DESCRIPTION:En rik bild- och ljudupplevelse av fågellivet i fjällen. Pete
 r Berglund berättar om fjällens fågelliv\, om de olika arternas sång o
 ch lockläten samt om inventering och populationsutveckling. Ta chansen at
 t bli inspirerad av några av fjällens mest mångfasetterade invånare.
DTSTART:20230321T173000Z
DTSTAMP:20221219T184450Z
ORGANIZER;CN=Svenska Fjällklubben:MAILTO:joomla@fjallklubben.se
END:VEVENT
END:VCALENDAR