BEGIN:VCALENDAR
VERSION:2.0
PRODID:Events Booking
BEGIN:VEVENT
UID:69e8122c93ee4
SUMMARY:Hösttälttur
DESCRIPTION:I oktober har vinden med sig doften av förändring. Man känne
 r hur sommarens hetsiga liv har gått över till vila och återhämtning o
 ch man kan också ana att snön närmar sig\, kanske är topparna vit-pudr
 ade på morgonen när vi tittar ut ur tältet. Mörkret smyger på tidigar
 e på kvällen än vad vi är vana vid och bidrar till känslan av återh
 ämtning och omställning.
 Preliminär utgångspunkt och slutpunkt för 
 turen är Vålådalen (kan nås med tåg/buss). Sträckningen bestäms kor
 t före start och anpassas till väder och eventuell snö och går delvis 
 utanför markerade leder\, där det kan bli något vad.
DTSTART:20241003T220000Z
DTEND:20241005T220000Z
DTSTAMP:20240924T171524Z
ORGANIZER;CN=Svenska Fjällklubben:MAILTO:joomla@fjallklubben.se
END:VEVENT
END:VCALENDAR