BEGIN:VCALENDAR
VERSION:2.0
PRODID:Events Booking
BEGIN:VEVENT
UID:69e812276ee32
SUMMARY:Hösttälttur
DESCRIPTION:Oktober är brytningstid\, barmarkssäsongen är på väg mot s
 itt slut och snön är eller känns närvarande. De tidiga kvällarna ger 
 kraftig höstkänsla och gott om tid till trevlig samvaro i tälten. En tu
 r nu är en fin avslutning på vandringstiden och en bra förberedelse inf
 ör vintern. Turen anpassas efter väder och snöförhållanden\, vandring
 sväg bestäms därför sent inpå men blir i Jämtlandsfjällen.
 För a
 tt kunna vara med på turen ska man kunna vandra dagsetapper 15–20 km ut
 anför leder och ha utrustning för lite kallare väder. Plats i tält bru
 kar gå att ordna om man inte har eget. Max 5 deltagare.Vi kommer att ha e
 tt förmöte (troligtvis digitalt) ca en och en halv vecka före turen.
 
 Datum 20–22 oktoberSvårighetsgrad 3 av 5Anmälan senast 9 oktober till 
 Henrik Andersson\,henrik.fjell@bahnhof.se eller 073-818 22 84.
DTSTART:20231019T220000Z
DTEND:20231021T220000Z
DTSTAMP:20230718T171428Z
ORGANIZER;CN=Svenska Fjällklubben:MAILTO:joomla@fjallklubben.se
END:VEVENT
END:VCALENDAR