BEGIN:VCALENDAR
VERSION:2.0
PRODID:Events Booking
BEGIN:VEVENT
UID:69e812ffe651d
SUMMARY:Huggormsspaning i Imbergen
DESCRIPTION:Vi ses i Höglekardalen på parkeringen ”längst in” i dale
 n kl. 8.00. Därifrån vandrar vi upp till Imbergen som ligger i nordostli
 g riktning från Höglekardalen. Turen är på ca 17 km totalt.
 Dagen ä
 r förhoppningsvis solig och varm så att vi får chansen att stöta på d
 e mycket sällsynta huggormar som finns i området.
DTSTART:20250622T060000Z
DTEND:20250621T220000Z
DTSTAMP:20250604T182716Z
ORGANIZER;CN=Svenska Fjällklubben:MAILTO:joomla@fjallklubben.se
END:VEVENT
END:VCALENDAR