BEGIN:VCALENDAR
VERSION:2.0
PRODID:Events Booking
BEGIN:VEVENT
UID:69e812b20e707
SUMMARY:Lapplandstur
DESCRIPTION:Lappland har kanske de finaste och intressantaste fjällen i Sv
 erige. En tälttur där under andra halvan avapril bjuder normalt på fant
 astiska upplevelser av solvarma dalar med ripspel och purpurbräcka ochtop
 par rikt ornamenterade med dimfrost. Men man kan också möta regn och då
 ligt bärig snö.
 För att kunna vara med på turen måste man kvalifice
 ra sig till exempel genom att vara med på tältturen i mars. Detta för a
 tt vi ska vara säkra på att vi blir en grupp som fungerar både i förm
 åga att genomföra en tälttur på snö och socialt.
 Preliminär utgån
 gspunkt (både start och slut) för turen är Kvikkjokk.
 Max 5 deltagare
 . Vi kommer att ha ett förmöte (troligtvis digitalt) ca en och en halv v
 ecka före turen.
 Datum 20–28 aprilSvårighetsgrad 4\,5 av 5Anmälan s
 enast 1 april till turledare Henrik Andersson\, henrik.fjell@bahnhof.se\, 
 073-818 22 84
DTSTART:20240419T220000Z
DTEND:20240427T220000Z
DTSTAMP:20240221T194754Z
ORGANIZER;CN=Svenska Fjällklubben:MAILTO:joomla@fjallklubben.se
END:VEVENT
END:VCALENDAR