BEGIN:VCALENDAR
VERSION:2.0
PRODID:Events Booking
BEGIN:VEVENT
UID:69e8023038b4b
SUMMARY:Latmete efter öring
DESCRIPTION:Årstiden är den allra bästa för öringsfiske\, precis när 
 grönskan börjat djupna och öringen nappar som bäst. Rubriken är ”la
 tmete” (som är enkelt att utföra) men det betyder inte att alla behöv
 er latmeta med mask och kastkula. Är man en mer avancerad fiskare så vä
 ljer man naturligtvis fiskemetod efter detta.
DTSTART:20250627T220000Z
DTEND:20250628T220000Z
DTSTAMP:20250604T183041Z
ORGANIZER;CN=Svenska Fjällklubben:MAILTO:joomla@fjallklubben.se
END:VEVENT
END:VCALENDAR