BEGIN:VCALENDAR
VERSION:2.0
PRODID:Events Booking
BEGIN:VEVENT
UID:69e8130f2380c
SUMMARY:Månskenstur med tält
DESCRIPTION:Krispiga vinternätter i månsken\, finns det något bättre? V
 i passar på att nyttja fullmånen för turen som går i Oviksfjällen\, m
 ed start i Höglekardalen. Färdvägen anpassas efter rådande väderlek m
 en vi håller oss om möjligt till mycket kalfjäll.
 För att kunna geno
 mföra turen på ett säkert sätt förutsätts att deltagarna har erfaren
 het av vintertältning och är så gott som självständiga\, samt klarar 
 av att förflytta sig cirka 15–20 kilometer per dag. Har du frågor elle
 r funderingar kring utrustning så tveka inte att höra av dig!
 Ungefär
  en vecka innan kommer vi ha ett digitalt förmöte för frågor\, stämma
  av läget och dela in oss i eventuella tältlag.
 Datum 23–25 februari
 Svårighetsgrad 4 av 5Anmälan senast 15 februari till turledare Philip St
 aberg\, philip.staberg@gmail.com\, 073-587 58 28
DTSTART:20240222T230000Z
DTEND:20240224T230000Z
DTSTAMP:20240103T184922Z
ORGANIZER;CN=Svenska Fjällklubben:MAILTO:joomla@fjallklubben.se
END:VEVENT
END:VCALENDAR