BEGIN:VCALENDAR
VERSION:2.0
PRODID:Events Booking
BEGIN:VEVENT
UID:69e8127534449
SUMMARY:Snöbivacktur
DESCRIPTION:Kom med och prova på att bygga och bo i snö. Vi startar från
  Höglekardalen och åker 5–10 km till en lämplig plats där vi bygger 
 skogsigloor (quinzee). Titta här för att få en idé om vad vi ska göra
 . Denna snöbivacktyp är lätt att göra och man kan med fördel göra de
 n i skogen. Den passar därför bra som ett skydd i dåligt väder. Det bl
 ir aldrig så kallt i en snöbivack som i ett tält så denna tur kan pass
 a bra för dig som vill prova att övernatta ute på vintern.
DTSTART:20230224T230000Z
DTEND:20230225T230000Z
DTSTAMP:20230124T215035Z
ORGANIZER;CN=Svenska Fjällklubben:MAILTO:joomla@fjallklubben.se
END:VEVENT
END:VCALENDAR