BEGIN:VCALENDAR
VERSION:2.0
PRODID:Events Booking
BEGIN:VEVENT
UID:69e8130f23c7c
SUMMARY:Snöljustur med tält
DESCRIPTION:Vi startar i mörkret på fredag kväll\, åker skidor någon t
 imme och sätter sedan upp tälten. Är vädret klart lyser fullmånen så
  starkt att vi kan släcka pannlamporna.
 Nästa dag gör vi en tur och n
 juter av att äntligen få glida över den snötäckta terrängen. Sätter
  upp tälten igen i den tidiga skymningen\, äter och samtalar under den l
 ånga kvällen innan det är dags att krypa ned i säcken.
 För att kunn
 a delta i turen måste du kunna åka skidor utanför leder ca 15 km per da
 g och helst ha övernattat i tält på vintern tidigare. Plats i tält bru
 kar gå att ordna om du inte har eget.
DTSTART:20250109T230000Z
DTEND:20250111T230000Z
DTSTAMP:20250106T061112Z
ORGANIZER;CN=Svenska Fjällklubben:MAILTO:joomla@fjallklubben.se
END:VEVENT
END:VCALENDAR