BEGIN:VCALENDAR
VERSION:2.0
PRODID:Events Booking
BEGIN:VEVENT
UID:69e813d2bb067
SUMMARY:Snöljustur med tält
DESCRIPTION:I mörkret lyser snön med sitt eget ljus. Vi startar turen på
  fredag kväll för att få den rätta midvinterkänslan. Turen kommer att
  gå utanför lederna i Oviksfjällen med start och slut i Höglekardalen.
  Dagarna är korta och vi kommer inte att åka i pannlampsljus så vi får
  i stället gott om tid till att vara i tälten och umgås. Deltagare i tu
 ren bör ha vintertältat tidigare och ha utrustning för kyla och mörker
 .
 Vi har ett digitalt förmöte ca en vecka före turstart för frågor\
 , information och organisation av turen.Datum 19–21 januariSvårighetsgr
 ad 3\,5 av 5Anmälan senast 9 januari till turledare Henrik Andersson\, he
 nrik.fjell@bahnhof.se\, 073-818 22 84
DTSTART:20240118T230000Z
DTEND:20240120T230000Z
DTSTAMP:20240103T184239Z
ORGANIZER;CN=Svenska Fjällklubben:MAILTO:joomla@fjallklubben.se
END:VEVENT
END:VCALENDAR