BEGIN:VCALENDAR
VERSION:2.0
PRODID:Events Booking
BEGIN:VEVENT
UID:69e8130f8d7fe
SUMMARY:Studiebesök Segebadenpulkan
DESCRIPTION:Träpulkan Segebaden har tillverkats sedan 1930-talet och idag 
 för Dan Eliasson hantverket vidare i produktionslokalerna på Frösön.

  Företaget erbjuder dels nytillverkade pulkor\, men också kurser i att t
 illverka sin egen pulka samt i hur man renoverar och uppdaterar en äldre 
 pulka. Detta med samma teknik som använts sedan starten.
DTSTART:20251103T170000Z
DTSTAMP:20250827T153738Z
ORGANIZER;CN=Svenska Fjällklubben:MAILTO:joomla@fjallklubben.se
END:VEVENT
END:VCALENDAR