BEGIN:VCALENDAR
VERSION:2.0
PRODID:Events Booking
BEGIN:VEVENT
UID:69e82747e68ee
SUMMARY:Tälttur i Jämtlandsfjällen
DESCRIPTION:Tälttur någonstans i Jämtlandsfjällen på plats som vi komm
 er överens om. Vi pratar ihop oss om&nbsp\; samåkning\, tält och köksu
 trustning. Ta med stighudar för eventuell topptur\, den som känner&nbsp\
 ; för det.
 Datum för turen är preliminärt. Ta kontakt med Henrik i t
 id.
 Frågor och anmälan: Henrik Andersson\, henrik.fjell@bahnhof.se\, 0
 73-818 22 84
DTSTART:20180308T230000Z
DTEND:20180310T230000Z
DTSTAMP:20260422T034127Z
ORGANIZER;CN=Svenska Fjällklubben:MAILTO:joomla@fjallklubben.se
END:VEVENT
END:VCALENDAR