BEGIN:VCALENDAR
VERSION:2.0
PRODID:Events Booking
BEGIN:VEVENT
UID:69e81db39d624
SUMMARY:Årsmöte
DESCRIPTION:Välkomna till Östgötasektionens årsmöte i Strömsfors lör
 dagen den 10 februari 2018 kl. 14:00!
DTSTART:20180210T110000Z
DTEND:20180210T160000Z
DTSTAMP:20260422T030035Z
ORGANIZER;CN=Svenska Fjällklubben:MAILTO:joomla@fjallklubben.se
END:VEVENT
END:VCALENDAR