BEGIN:VCALENDAR
VERSION:2.0
PRODID:Events Booking
BEGIN:VEVENT
UID:69e80969d09fb
SUMMARY:Bildvisning
DESCRIPTION:Medlemmarnas bildvisningskväll. Välkommen att ta med några b
 ilder från egen fjällvistelse att visa upp för fjällvänner och berät
 ta lite om dina upplevelser därifrån.
DTSTART:20221123T173000Z
DTEND:20221123T210000Z
DTSTAMP:20220911T161421Z
ORGANIZER;CN=Svenska Fjällklubben:MAILTO:joomla@fjallklubben.se
END:VEVENT
END:VCALENDAR