BEGIN:VCALENDAR
VERSION:2.0
PRODID:Events Booking
BEGIN:VEVENT
UID:69e81d39d62a5
SUMMARY:Bildvisning
DESCRIPTION:Välkommen att ta med några bilder från egen fjällvistelse a
 tt visa upp för andra fjällvänner. Vi kommer att hålla till i Norrköp
 ing scoutkårs stuga “Hultet” i Kneippen i Norrköping från kl 18:30.
  “Hultet” ligger i ett grönområde ca 120 m nordost om Landerholms ba
 geri på Linköpingsvägen. Fika kommer att erbjudas. Kontaktperson Reidar
  Grundström (072-5196752 / reidar.grundstrom@telia.com).
DTSTART:20180314T173000Z
DTEND:20180314T210000Z
DTSTAMP:20260422T025833Z
ORGANIZER;CN=Svenska Fjällklubben:MAILTO:joomla@fjallklubben.se
END:VEVENT
END:VCALENDAR