BEGIN:VCALENDAR
VERSION:2.0
PRODID:Events Booking
BEGIN:VEVENT
UID:69e81db39db14
SUMMARY:Fågelexkursion
DESCRIPTION:Fågelexkursion till Tåkern\, tillsammans med Sven-Ingmar Deur
 ell som fågelguide.
DTSTART:20190907T060000Z
DTEND:20190907T140000Z
DTSTAMP:20260422T030035Z
ORGANIZER;CN=Svenska Fjällklubben:MAILTO:joomla@fjallklubben.se
END:VEVENT
END:VCALENDAR