BEGIN:VCALENDAR
VERSION:2.0
PRODID:Events Booking
BEGIN:VEVENT
UID:69e8102ae9239
SUMMARY:Hjälmstorpenäs naturreservat
DESCRIPTION:Vandring i&nbsp\;Hjälmstorpenäs naturreservat.
DTSTART:20201108T083000Z
DTEND:20201108T150000Z
DTSTAMP:20260422T020250Z
ORGANIZER;CN=Svenska Fjällklubben:MAILTO:joomla@fjallklubben.se
END:VEVENT
END:VCALENDAR