BEGIN:VCALENDAR
VERSION:2.0
PRODID:Events Booking
BEGIN:VEVENT
UID:69e81c5add6be
SUMMARY:Kvällsutflykt
DESCRIPTION:OBS! Ändrat 17/4 -&gt\; 18/4. Lättare vandring i Tokorp natur
 reservat som ligger strax norr om Roxen.&nbsp\;Samling kl 17:00 vid parker
 ing vid Stjärnorps kyrka (intill slottsruin). Kontaktperson Anders Åkerb
 erg (070-5653745 / vikaansa@gmail.com).
DTSTART:20180418T150000Z
DTEND:20180418T190000Z
DTSTAMP:20260422T025450Z
ORGANIZER;CN=Svenska Fjällklubben:MAILTO:joomla@fjallklubben.se
END:VEVENT
END:VCALENDAR