BEGIN:VCALENDAR
VERSION:2.0
PRODID:Events Booking
BEGIN:VEVENT
UID:69e809e485d9e
SUMMARY:Kvällsutflykt
DESCRIPTION:Kvällsutflykt till Ljusfors och Ribbingsholms naturreservat vi
 d Glan nära Skärblacka.
DTSTART:20200609T160000Z
DTEND:20200609T200000Z
DTSTAMP:20260422T013604Z
ORGANIZER;CN=Svenska Fjällklubben:MAILTO:joomla@fjallklubben.se
END:VEVENT
END:VCALENDAR