BEGIN:VCALENDAR
VERSION:2.0
PRODID:Events Booking
BEGIN:VEVENT
UID:69e80a173fe15
SUMMARY:Litteraturafton
DESCRIPTION:Östgötasektionen anordnar fjäll-litteraturafton.
DTSTART:20200310T174500Z
DTEND:20200310T210000Z
DTSTAMP:20260422T013655Z
ORGANIZER;CN=Svenska Fjällklubben:MAILTO:joomla@fjallklubben.se
END:VEVENT
END:VCALENDAR