BEGIN:VCALENDAR
VERSION:2.0
PRODID:Events Booking
BEGIN:VEVENT
UID:69e80874bd388
SUMMARY:Mormorsgruvan
DESCRIPTION:Söndagsutflykt till&nbsp\;Närstads gruvfält (Mormorsgruvan)&
 nbsp\;i utkanten av Åtvidaberg. Vi gör en promenad i denna intressanta m
 iljö med lämningar efter medeltida och senare tiders gruvbrytning.
DTSTART:20220424T073000Z
DTEND:20220424T140000Z
DTSTAMP:20220306T194338Z
ORGANIZER;CN=Svenska Fjällklubben:MAILTO:joomla@fjallklubben.se
END:VEVENT
END:VCALENDAR