BEGIN:VCALENDAR
VERSION:2.0
PRODID:Events Booking
BEGIN:VEVENT
UID:69e8089fd4ac7
SUMMARY:Östgötaleden - Kattedal rundslinga
DESCRIPTION:Denna söndag vandrar vi \"Kattedal rundslinga\" på ca 10 km\,
  som är en del av Östgötaleden strax syd om Valdemarsvik.
DTSTART:20211003T073000Z
DTEND:20211003T140000Z
DTSTAMP:20260422T013039Z
ORGANIZER;CN=Svenska Fjällklubben:MAILTO:joomla@fjallklubben.se
END:VEVENT
END:VCALENDAR