BEGIN:VCALENDAR
VERSION:2.0
PRODID:Events Booking
BEGIN:VEVENT
UID:69e80d13eefa8
SUMMARY:Sörmlandsleden
DESCRIPTION:Inställd
 Vandring på&nbsp\;Sörmlandsleden längst ut vid B
 råviken öster om Nävekvarn.
DTSTART:20240526T073000Z
DTEND:20240526T160000Z
DTSTAMP:20240329T215541Z
ORGANIZER;CN=Svenska Fjällklubben:MAILTO:joomla@fjallklubben.se
END:VEVENT
END:VCALENDAR