BEGIN:VCALENDAR
VERSION:2.0
PRODID:Events Booking
BEGIN:VEVENT
UID:69e809a33f60a
SUMMARY:Stegeborgsslingan
DESCRIPTION:Följ med på en härlig höstvandring och upplev Stegeborgsomr
 ådets kulturhistoria och vackra naturmiljöer.
 Samling kl 09:30 på par
 kering på Slottsholmen vid Stegeborgs slottsruin.
DTSTART:20241006T073000Z
DTEND:20241006T140000Z
DTSTAMP:20240922T121353Z
ORGANIZER;CN=Svenska Fjällklubben:MAILTO:joomla@fjallklubben.se
END:VEVENT
END:VCALENDAR