BEGIN:VCALENDAR
VERSION:2.0
PRODID:Events Booking
BEGIN:VEVENT
UID:69e802a774fe7
SUMMARY:Adventskaffe
DESCRIPTION:Traditionellt adventskaffe med tema Sarek. Hans Fowelin berätt
 ar om \"Präststigen\" och presenterar sin bok om leden.
 Vi kommer ocks
 å att se bilder och höra hur det var på fjällvandringarna i Grövelsj
 ön och Tärnafjällen.
 Plats: Röda rummet i Idrottens Hus\, Mellersta 
 Stenbocksgatan 10\, Helsingborg.
 Senast 5 december vill Leo Schneede ha 
 din anmälan (leo.stromberg@gmail.com).
 &nbsp\;
DTSTART:20191208T123000Z
DTEND:20191208T170000Z
DTSTAMP:20260422T010511Z
ORGANIZER;CN=Svenska Fjällklubben:MAILTO:joomla@fjallklubben.se
END:VEVENT
END:VCALENDAR