BEGIN:VCALENDAR
VERSION:2.0
PRODID:Events Booking
BEGIN:VEVENT
UID:69e802a6ef26f
SUMMARY:Adventskaffe
DESCRIPTION:Adventskaffe&nbsp\;
 Program kommer senare.
DTSTART:20201206T120000Z
DTEND:20201206T150000Z
DTSTAMP:20260422T010510Z
ORGANIZER;CN=Svenska Fjällklubben:MAILTO:joomla@fjallklubben.se
END:VEVENT
END:VCALENDAR