BEGIN:VCALENDAR
VERSION:2.0
PRODID:Events Booking
BEGIN:VEVENT
UID:69e80ea579989
SUMMARY:Adventskaffe Tema Sarek
DESCRIPTION:Styrelsen bjuder in till traditionellt Adventskaffe med Tema 
 “Sarek”. Föredrag av Hans Fowelin och bildvisning.
 &nbsp\; &nbsp\; 
 &nbsp\; &nbsp\;&nbsp\;
 &nbsp\;
DTSTART:20221204T110000Z
DTEND:20221204T140000Z
DTSTAMP:20220918T062027Z
ORGANIZER;CN=Svenska Fjällklubben:MAILTO:joomla@fjallklubben.se
END:VEVENT
END:VCALENDAR