BEGIN:VCALENDAR
VERSION:2.0
PRODID:Events Booking
BEGIN:VEVENT
UID:69e802a674e9f
SUMMARY:Adventskaffe
DESCRIPTION:
DTSTART:20231203T130000Z
DTEND:20231203T150000Z
DTSTAMP:20231014T034846Z
ORGANIZER;CN=Svenska Fjällklubben:MAILTO:joomla@fjallklubben.se
END:VEVENT
END:VCALENDAR