BEGIN:VCALENDAR
VERSION:2.0
PRODID:Events Booking
BEGIN:VEVENT
UID:69e80f236c1cf
SUMMARY:Årsmöte
DESCRIPTION:Årsmöte med Tema Sarek
DTSTART:20230212T110000Z
DTEND:20230212T130000Z
DTSTAMP:20221127T122147Z
ORGANIZER;CN=Svenska Fjällklubben:MAILTO:joomla@fjallklubben.se
END:VEVENT
END:VCALENDAR