BEGIN:VCALENDAR
VERSION:2.0
PRODID:Events Booking
BEGIN:VEVENT
UID:69e802feee2a7
SUMMARY:ÅRSMÖTE
DESCRIPTION:Plats: Hyresgästföreningens lokal på Trollebergsvägen 103 i
  Lund.
 Efter sedvanliga årsmötesförhandlingar berättar Majvor Massa 
 Eriksson om boken \"VIJSESVUOHTABÁHKOGIRJJE VISDOMSBOK 1918-2018\".
 Sam
 eföreningen Samer i Syd - Solprojekt (Biejvveprosjäkta) hedrar detta sek
 el med utgivning av denna jubileumsbok\, visdomsord från urfolket i Norde
 n tillsammans med andra urfolk i världen.
 Anmäl ditt deltagande senast
  måndag 3 februari till: johnil@telia.com&nbsp\;elleer tel. 070 625 58 90
 .
 Välkommen!
DTSTART:20200209T130000Z
DTEND:20200209T170000Z
DTSTAMP:20260422T010638Z
ORGANIZER;CN=Svenska Fjällklubben:MAILTO:joomla@fjallklubben.se
END:VEVENT
END:VCALENDAR