BEGIN:VCALENDAR
VERSION:2.0
PRODID:Events Booking
BEGIN:VEVENT
UID:69e80f6d52c94
SUMMARY:Äventyr på Kullaberg
DESCRIPTION:Äventyrsvandring på Kullaberg\, eventuellt med guide från na
 turum. Det är Leo Schneede som håller i denna aktivitet. leo.stromberg@g
 mail.com. Vi kommer att försöka hinna med att besöka både Nimis och en
  historiskt intressant plats på Gregers backar. Sträckan vi vandrar är 
 cirka 8 kilometer fågelvägen men relstivt kuperad.
 Samling vid Himmels
 torps parkering.
 Anmäl dig via mail till Leo eller dyk upp på parkerin
 gen aktuell dag.
 &nbsp\;
 &nbsp\;
DTSTART:20191012T080000Z
DTEND:20191012T160000Z
DTSTAMP:20260422T015941Z
ORGANIZER;CN=Svenska Fjällklubben:MAILTO:joomla@fjallklubben.se
END:VEVENT
END:VCALENDAR