BEGIN:VCALENDAR
VERSION:2.0
PRODID:Events Booking
BEGIN:VEVENT
UID:69e80fe664f8f
SUMMARY:Event på Naturkompaniets butik Malmö
DESCRIPTION:Svenska Fjällklubben är inbjuden till Naturkompaniets butik i
  Malmö\, Stora Nygatan 35. Fjällvett och fjällpepp från Sarek och Padj
 elanta. Erfarenhetsutbyte och fjällprat. Jenny Lindström från Sektion S
 yd berättar kort om klubbens verksamhet. Klubbmedlemmen Hans Fowelin hål
 ler föredrag om sin bok Präststigen i Sarek.&nbsp\;Välkommen till Natur
 kompaniet Stora Nygatan i Malmö!&nbsp\;
DTSTART:20230307T180000Z
DTEND:20230307T193000Z
DTSTAMP:20221127T123026Z
ORGANIZER;CN=Svenska Fjällklubben:MAILTO:joomla@fjallklubben.se
END:VEVENT
END:VCALENDAR